BEGIN:VCALENDAR
VERSION:2.0
PRODID:-//178.254.10.74//NONSGML kigkonsult.se iCalcreator 2.20//
CALSCALE:GREGORIAN
METHOD:PUBLISH
X-WR-TIMEZONE:UTC
BEGIN:VEVENT
UID:event7@Kultur-Forum Partenheim 
DTSTAMP:20260419T144123Z
CATEGORIES:Kultur erleben
DESCRIPTION:Jazzmatinee an der Kerb mit den N.O. Dixielanders\nKategorie: K
 ultur erleben\nICS-Link: https://www.kulturforum-partenheim.de/index.php?o
 ption=com_jem&view=event&id=7:jazzmatinee-an-der-kerb-mit-den-n-o-dixielan
 ders\n
DTSTART:20260906T110000Z
DTEND:20260906T110000Z
LOCATION:Kulturscheune\,Vordergasse 17\,55288  Partenheim\,Germany
SUMMARY:Jazzmatinee an der Kerb mit den N.O. Dixielanders
URL:https://www.kulturforum-partenheim.de/index.php?option=com_jem&view=eve
 nt&id=7:jazzmatinee-an-der-kerb-mit-den-n-o-dixielanders
END:VEVENT
BEGIN:VEVENT
UID:event3@Kultur-Forum Partenheim 
DTSTAMP:20260419T144123Z
CATEGORIES:Tradition bewahren\, Gemeinsam feiern
DESCRIPTION:Eierweinfest\nKategorie: Tradition bewahren\, Gemeinsam feiern
 \nICS-Link: https://www.kulturforum-partenheim.de/index.php?option=com_jem
 &view=event&id=3:eierweinfest\n
DTSTART:20260526T180000Z
DTEND:20260526T180000Z
LOCATION:Kulturscheune\,Vordergasse 17\,55288  Partenheim\,Germany
SUMMARY:Eierweinfest
URL:https://www.kulturforum-partenheim.de/index.php?option=com_jem&view=eve
 nt&id=3:eierweinfest
END:VEVENT
BEGIN:VEVENT
UID:event8@Kultur-Forum Partenheim 
DTSTAMP:20260419T144123Z
CATEGORIES:Tradition bewahren\, Gemeinsam feiern
DESCRIPTION:Bremsermusik\nKategorie: Tradition bewahren\, Gemeinsam feiern
 \nICS-Link: https://www.kulturforum-partenheim.de/index.php?option=com_jem
 &view=event&id=8:bremsermusik\n
DTSTART:20260919T190000Z
DTEND:20260919T190000Z
LOCATION:Kulturscheune\,Vordergasse 17\,55288  Partenheim\,Germany
SUMMARY:Bremsermusik
URL:https://www.kulturforum-partenheim.de/index.php?option=com_jem&view=eve
 nt&id=8:bremsermusik
END:VEVENT
BEGIN:VEVENT
UID:event4@Kultur-Forum Partenheim 
DTSTAMP:20260419T144123Z
CATEGORIES:Kultur erleben\, Gemeinsam feiern
DESCRIPTION:Gute Laune Tour - Sommerkonzert mit der Jeanine Vahldieck Band
 \nKategorie: Kultur erleben\, Gemeinsam feiern\nICS-Link: https://www.kult
 urforum-partenheim.de/index.php?option=com_jem&view=event&id=4:gute-laune-
 tour-sommerkonzert-mit-der-jeanine-vahldieck-band\n
DTSTART:20260621T190000Z
DTEND:20260621T190000Z
LOCATION:Kulturscheune\,Vordergasse 17\,55288  Partenheim\,Germany
SUMMARY:Gute Laune Tour - Sommerkonzert mit der Jeanine Vahldieck Band
URL:https://www.kulturforum-partenheim.de/index.php?option=com_jem&view=eve
 nt&id=4:gute-laune-tour-sommerkonzert-mit-der-jeanine-vahldieck-band
END:VEVENT
END:VCALENDAR